BEGIN:VCALENDAR
VERSION:2.0
PRODID:-//Lona Vieane - ECPv6.15.20//NONSGML v1.0//EN
CALSCALE:GREGORIAN
METHOD:PUBLISH
X-WR-CALNAME:Lona Vieane
X-ORIGINAL-URL:https://lonavieane.com
X-WR-CALDESC:Evenementen voor Lona Vieane
REFRESH-INTERVAL;VALUE=DURATION:PT1H
X-Robots-Tag:noindex
X-PUBLISHED-TTL:PT1H
BEGIN:VTIMEZONE
TZID:Europe/Helsinki
BEGIN:DAYLIGHT
TZOFFSETFROM:+0200
TZOFFSETTO:+0300
TZNAME:EEST
DTSTART:20230326T010000
END:DAYLIGHT
BEGIN:STANDARD
TZOFFSETFROM:+0300
TZOFFSETTO:+0200
TZNAME:EET
DTSTART:20231029T010000
END:STANDARD
BEGIN:DAYLIGHT
TZOFFSETFROM:+0200
TZOFFSETTO:+0300
TZNAME:EEST
DTSTART:20240331T010000
END:DAYLIGHT
BEGIN:STANDARD
TZOFFSETFROM:+0300
TZOFFSETTO:+0200
TZNAME:EET
DTSTART:20241027T010000
END:STANDARD
BEGIN:DAYLIGHT
TZOFFSETFROM:+0200
TZOFFSETTO:+0300
TZNAME:EEST
DTSTART:20250330T010000
END:DAYLIGHT
BEGIN:STANDARD
TZOFFSETFROM:+0300
TZOFFSETTO:+0200
TZNAME:EET
DTSTART:20251026T010000
END:STANDARD
END:VTIMEZONE
BEGIN:VEVENT
DTSTART;VALUE=DATE:20240907
DTEND;VALUE=DATE:20240908
DTSTAMP:20260421T011055
CREATED:20250526T182204Z
LAST-MODIFIED:20250526T182204Z
UID:10000055-1725667200-1725753599@lonavieane.com
SUMMARY:Dutch Kids Golf Tour 2024 @ Wassenaarse Golf Rozensteijn
DESCRIPTION:
URL:https://lonavieane.com/event/dutch-kids-golf-tour-2024-wassenaarse-golf-rozensteijn/
LOCATION:Wassenaarse Golf Rozensteijn\, Dr. Mansveltkade 15\, Wassenaar\, 2242 TZ\, Netherlands
CATEGORIES:Dutch Kids Golf
END:VEVENT
END:VCALENDAR