BEGIN:VCALENDAR
VERSION:2.0
PRODID:-//Lona Vieane - ECPv6.15.20//NONSGML v1.0//EN
CALSCALE:GREGORIAN
METHOD:PUBLISH
X-WR-CALNAME:Lona Vieane
X-ORIGINAL-URL:https://lonavieane.com
X-WR-CALDESC:Evenementen voor Lona Vieane
REFRESH-INTERVAL;VALUE=DURATION:PT1H
X-Robots-Tag:noindex
X-PUBLISHED-TTL:PT1H
BEGIN:VTIMEZONE
TZID:Europe/Helsinki
BEGIN:DAYLIGHT
TZOFFSETFROM:+0200
TZOFFSETTO:+0300
TZNAME:EEST
DTSTART:20230326T010000
END:DAYLIGHT
BEGIN:STANDARD
TZOFFSETFROM:+0300
TZOFFSETTO:+0200
TZNAME:EET
DTSTART:20231029T010000
END:STANDARD
BEGIN:DAYLIGHT
TZOFFSETFROM:+0200
TZOFFSETTO:+0300
TZNAME:EEST
DTSTART:20240331T010000
END:DAYLIGHT
BEGIN:STANDARD
TZOFFSETFROM:+0300
TZOFFSETTO:+0200
TZNAME:EET
DTSTART:20241027T010000
END:STANDARD
BEGIN:DAYLIGHT
TZOFFSETFROM:+0200
TZOFFSETTO:+0300
TZNAME:EEST
DTSTART:20250330T010000
END:DAYLIGHT
BEGIN:STANDARD
TZOFFSETFROM:+0300
TZOFFSETTO:+0200
TZNAME:EET
DTSTART:20251026T010000
END:STANDARD
BEGIN:DAYLIGHT
TZOFFSETFROM:+0200
TZOFFSETTO:+0300
TZNAME:EEST
DTSTART:20260329T010000
END:DAYLIGHT
BEGIN:STANDARD
TZOFFSETFROM:+0300
TZOFFSETTO:+0200
TZNAME:EET
DTSTART:20261025T010000
END:STANDARD
END:VTIMEZONE
BEGIN:VEVENT
DTSTART;VALUE=DATE:20251207
DTEND;VALUE=DATE:20251208
DTSTAMP:20260421T041930
CREATED:20251015T175732Z
LAST-MODIFIED:20251015T175732Z
UID:10000124-1765065600-1765151999@lonavieane.com
SUMMARY:NGF - Future training
DESCRIPTION:
URL:https://lonavieane.com/event/ngf-future-training-2/
LOCATION:The Dutch\, Haarweg 3\, Spijk\, 4212 KJ\, Netherlands
CATEGORIES:NGF
END:VEVENT
BEGIN:VEVENT
DTSTART;VALUE=DATE:20251123
DTEND;VALUE=DATE:20251124
DTSTAMP:20260421T041930
CREATED:20251015T175629Z
LAST-MODIFIED:20251015T175629Z
UID:10000123-1763856000-1763942399@lonavieane.com
SUMMARY:NGF - Future training
DESCRIPTION:
URL:https://lonavieane.com/event/ngf-future-training/
LOCATION:The Dutch\, Haarweg 3\, Spijk\, 4212 KJ\, Netherlands
CATEGORIES:NGF
END:VEVENT
BEGIN:VEVENT
DTSTART;VALUE=DATE:20250510
DTEND;VALUE=DATE:20250511
DTSTAMP:20260421T041930
CREATED:20250523T214443Z
LAST-MODIFIED:20250523T214443Z
UID:10000026-1746835200-1746921599@lonavieane.com
SUMMARY:CHALLENGE ACCEPTED @ The Dutch
DESCRIPTION:
URL:https://lonavieane.com/event/challenge-accepted-the-dutch/
LOCATION:The Dutch\, Haarweg 3\, Spijk\, 4212 KJ\, Netherlands
CATEGORIES:Evenementen
END:VEVENT
BEGIN:VEVENT
DTSTART;VALUE=DATE:20250329
DTEND;VALUE=DATE:20250330
DTSTAMP:20260421T041930
CREATED:20250525T185108Z
LAST-MODIFIED:20250525T185108Z
UID:10000037-1743206400-1743292799@lonavieane.com
SUMMARY:NGF Future Training @ The Dutch
DESCRIPTION:NGF Future Trainingen\nZaterdag 29 maart – The Dutch (+/- 9:00 tot 14:00 uur)
URL:https://lonavieane.com/event/ngf-future-training-the-dutch/
LOCATION:The Dutch\, Haarweg 3\, Spijk\, 4212 KJ\, Netherlands
CATEGORIES:NGF
END:VEVENT
BEGIN:VEVENT
DTSTART;VALUE=DATE:20240505
DTEND;VALUE=DATE:20240506
DTSTAMP:20260421T041930
CREATED:20250530T200209Z
LAST-MODIFIED:20250530T200209Z
UID:10000072-1714867200-1714953599@lonavieane.com
SUMMARY:NGF Future Camp - The Dutch
DESCRIPTION:
URL:https://lonavieane.com/event/ngf-future-camp-the-dutch/
LOCATION:The Dutch\, Haarweg 3\, Spijk\, 4212 KJ\, Netherlands
CATEGORIES:NGF
END:VEVENT
END:VCALENDAR