BEGIN:VCALENDAR
VERSION:2.0
PRODID:-//Lona Vieane - ECPv6.15.20//NONSGML v1.0//EN
CALSCALE:GREGORIAN
METHOD:PUBLISH
X-ORIGINAL-URL:https://lonavieane.com
X-WR-CALDESC:Evenementen voor Lona Vieane
REFRESH-INTERVAL;VALUE=DURATION:PT1H
X-Robots-Tag:noindex
X-PUBLISHED-TTL:PT1H
BEGIN:VTIMEZONE
TZID:Europe/Helsinki
BEGIN:DAYLIGHT
TZOFFSETFROM:+0200
TZOFFSETTO:+0300
TZNAME:EEST
DTSTART:20230326T010000
END:DAYLIGHT
BEGIN:STANDARD
TZOFFSETFROM:+0300
TZOFFSETTO:+0200
TZNAME:EET
DTSTART:20231029T010000
END:STANDARD
BEGIN:DAYLIGHT
TZOFFSETFROM:+0200
TZOFFSETTO:+0300
TZNAME:EEST
DTSTART:20240331T010000
END:DAYLIGHT
BEGIN:STANDARD
TZOFFSETFROM:+0300
TZOFFSETTO:+0200
TZNAME:EET
DTSTART:20241027T010000
END:STANDARD
BEGIN:DAYLIGHT
TZOFFSETFROM:+0200
TZOFFSETTO:+0300
TZNAME:EEST
DTSTART:20250330T010000
END:DAYLIGHT
BEGIN:STANDARD
TZOFFSETFROM:+0300
TZOFFSETTO:+0200
TZNAME:EET
DTSTART:20251026T010000
END:STANDARD
BEGIN:DAYLIGHT
TZOFFSETFROM:+0200
TZOFFSETTO:+0300
TZNAME:EEST
DTSTART:20260329T010000
END:DAYLIGHT
BEGIN:STANDARD
TZOFFSETFROM:+0300
TZOFFSETTO:+0200
TZNAME:EET
DTSTART:20261025T010000
END:STANDARD
END:VTIMEZONE
BEGIN:VEVENT
DTSTART;VALUE=DATE:20250914
DTEND;VALUE=DATE:20250915
DTSTAMP:20260420T170353
CREATED:20250828T183948Z
LAST-MODIFIED:20250828T183948Z
UID:10000118-1757808000-1757894399@lonavieane.com
SUMMARY:Nike Jeugd Open 2025 @ Hilversumsche
DESCRIPTION:
URL:https://lonavieane.com/event/nike-jeugd-open-2025-hilversumsche/
LOCATION:Hilversumsche Goflclub\, Soestdijkerstraatweg 172\, Hilversum\, 1213 XL\, Netherlands
END:VEVENT
BEGIN:VEVENT
DTSTART;VALUE=DATE:20250615
DTEND;VALUE=DATE:20250616
DTSTAMP:20260420T170353
CREATED:20250519T200607Z
LAST-MODIFIED:20250519T200607Z
UID:10000016-1749945600-1750031999@lonavieane.com
SUMMARY:NGF Future Trainingen @ Hilversumsche
DESCRIPTION:Zondag 15 juni – Hilversumsche  (+/- 9:00 tot 14:00 uur)
URL:https://lonavieane.com/event/ngf-future-trainingen-hilversumsche/
LOCATION:Hilversumsche Goflclub\, Soestdijkerstraatweg 172\, Hilversum\, 1213 XL\, Netherlands
CATEGORIES:NGF
END:VEVENT
BEGIN:VEVENT
DTSTART;VALUE=DATE:20240908
DTEND;VALUE=DATE:20240909
DTSTAMP:20260420T170353
CREATED:20250526T182043Z
LAST-MODIFIED:20250526T182043Z
UID:10000054-1725753600-1725839999@lonavieane.com
SUMMARY:NIKE Jeugd Open 2024 @ Hilversumsche Golfclub
DESCRIPTION:NIKE Jeugd Open 2024 \nDeelnemerslijst per 27 augustus 2024 \nSPELERS INFORMATIE\nBeste deelnemer\, \nDit is het inschrijfformulier \nDank voor jouw inschrijving voor het Hilversum Jeugd Open op zondag 8 september 2024. \nLOCATIE\nHet toernooi wordt gespeeld op: \nHilversumsche Goflclub\nSoestdijkerstraatweg 172\n1213 XL Hilversum \nBEREIKBAARHEID\nDe golfclub is het makkelijkst per auto te bereiken: \n\nNeem komende van de richting Amsterdam en Amersfoort de A1 en de A27 richting Utrecht\nNeem komend vanuit Utrecht de A27 richting Hilversum/Almere\nNeem afrit 33 – Hilversum op de A27\nEinde afrit respectievelijk links of rechts afslaan.\nRechts aanhouden\, let op uw snelheid\, aan uw rechterhand staat de meeste actieve snelheids- en roodlichtcamera van Nederland!!\nBij de rotonde neemt u de eerste afrit rechts\nNa ongeveer één kilometer slaat u rechtsaf naar de golfclub\n\nSPONSORING\nWij zijn heel blij dat ons toernooi ook dit jaar wordt ondersteund met prachtige prijzen\, beschikbaar gesteld door Nike Nederland. \nSPELVORM\nEr worden de volgende wedstrijdvormen gespeeld: \nHandicap tot 9.9         18-holes strokeplay wedstrijd van de witte (jongens) en blauwe (meisjes) tee\nHandicap 10.0-24\,9    18-holes strokeplay wedstrijd van de gele(jongens) en rode (meisjes) tee\nHandicap 25\,0-36\,0    18-holes stableford wedstrijd van de blauwe(jongens) en rode (meisjes) tee \nBij strokeplay (categorie1 en 2 ) moet  de speler de holes uitspelen op straffe van diskwalificatie.\nBij stableford wordt van de speler verwacht dat hij of zij zijn/haar bal oppakt als er geen punten meer kunnen worden gehaald. \nHier vind je het Wedstrijdreglement Hilversum Jeugd Open 2024. \nPRIJZEN\nIn elke categorie zijn er 3 prijzen voor de 1ste 3 deelnemers\, alsmede 1 prijs voor het beste meisje als die niet bij de beste 3 scores zit.\nEr wordt een wisselprijs uitgereikt voor de beste bruto score in categorie 1. Deze deelnemer mag zich een jaar lang de Hilversum Nike Open Jeugdkampioen noemen.\nAls laatste zijn er kleinere prijzen voor de longest drive in categorie 2 en 3 en voor een neary in alle categorieën. \nDe wedstrijd in categorie 1 maakt deel uit van de NGF jeugdranking en alle resultaten zullen dan ook doorgegeven worden aan de NGF. Wel dienen jullie zelf je eigen score in te vullen in de E-golf4U. \nDEELNEMERSLIJST\nElke week wordt een aangepaste deelnemerslijst op de website geplaatst. Als jij (of uw kind) er niet bij staat kan het zijn dat er geen koppeling gemaakt kan worden tussen de boeking en de reservering (als er bijvoorbeeld onder een andere naam is betaald dan de naam van de speler). Als er verwarring is wilt u hierover dan een mail sturen naar jeugdcommissie@hilversumschegolfclub.nl. \nSTARTLIJST\nDe startlijst wordt uiterlijk bekend gemaakt op 7 september 2024 en gepubliceerd op de website van de Hilversumsche Golfclub. Over de startlijst kan niet worden gecorrespondeerd en eventuele spelersverzoeken worden niet in overweging genomen.
URL:https://lonavieane.com/event/nike-jeugd-open-2024-hilversumsche-golfclub/
LOCATION:Hilversumsche Goflclub\, Soestdijkerstraatweg 172\, Hilversum\, 1213 XL\, Netherlands
END:VEVENT
END:VCALENDAR