BEGIN:VCALENDAR
VERSION:2.0
PRODID:-//Lona Vieane - ECPv6.15.20//NONSGML v1.0//EN
CALSCALE:GREGORIAN
METHOD:PUBLISH
X-ORIGINAL-URL:https://lonavieane.com
X-WR-CALDESC:Evenementen voor Lona Vieane
REFRESH-INTERVAL;VALUE=DURATION:PT1H
X-Robots-Tag:noindex
X-PUBLISHED-TTL:PT1H
BEGIN:VTIMEZONE
TZID:Europe/Helsinki
BEGIN:DAYLIGHT
TZOFFSETFROM:+0200
TZOFFSETTO:+0300
TZNAME:EEST
DTSTART:20240331T010000
END:DAYLIGHT
BEGIN:STANDARD
TZOFFSETFROM:+0300
TZOFFSETTO:+0200
TZNAME:EET
DTSTART:20241027T010000
END:STANDARD
BEGIN:DAYLIGHT
TZOFFSETFROM:+0200
TZOFFSETTO:+0300
TZNAME:EEST
DTSTART:20250330T010000
END:DAYLIGHT
BEGIN:STANDARD
TZOFFSETFROM:+0300
TZOFFSETTO:+0200
TZNAME:EET
DTSTART:20251026T010000
END:STANDARD
BEGIN:DAYLIGHT
TZOFFSETFROM:+0200
TZOFFSETTO:+0300
TZNAME:EEST
DTSTART:20260329T010000
END:DAYLIGHT
BEGIN:STANDARD
TZOFFSETFROM:+0300
TZOFFSETTO:+0200
TZNAME:EET
DTSTART:20261025T010000
END:STANDARD
BEGIN:DAYLIGHT
TZOFFSETFROM:+0200
TZOFFSETTO:+0300
TZNAME:EEST
DTSTART:20270328T010000
END:DAYLIGHT
BEGIN:STANDARD
TZOFFSETFROM:+0300
TZOFFSETTO:+0200
TZNAME:EET
DTSTART:20271031T010000
END:STANDARD
END:VTIMEZONE
BEGIN:VEVENT
DTSTART;VALUE=DATE:20260321
DTEND;VALUE=DATE:20260322
DTSTAMP:20260420T214344
CREATED:20260111T175235Z
LAST-MODIFIED:20260111T180307Z
UID:10000126-1774051200-1774137599@lonavieane.com
SUMMARY:NGF Competitie Hoofdklasse dag 1 @ Houtrak
DESCRIPTION:
URL:https://lonavieane.com/event/ngf-competitie-hoofdklasse-1-houtrak/
LOCATION:Golfclub Houtrak\, Machineweg 1-b\, Halfweg\, 1165 NB\, Netherlands
CATEGORIES:De Goyer,NGF
END:VEVENT
BEGIN:VEVENT
DTSTART;TZID=Europe/Helsinki:20250829T130000
DTEND;TZID=Europe/Helsinki:20250831T190000
DTSTAMP:20260420T214344
CREATED:20250828T183058Z
LAST-MODIFIED:20250828T183420Z
UID:10000117-1756472400-1756666800@lonavieane.com
SUMMARY:GJG Francine Saxton Trophy 2025\, Netherlands @ Golfclub Houtrak
DESCRIPTION:
URL:https://lonavieane.com/event/gjg-francine-saxton-trophy-2025-netherlands-golfclub-houtrak/
LOCATION:Golfclub Houtrak\, Machineweg 1-b\, Halfweg\, 1165 NB\, Netherlands
CATEGORIES:Global Junior Golf
END:VEVENT
END:VCALENDAR