BEGIN:VCALENDAR
VERSION:2.0
PRODID:-//Lona Vieane - ECPv6.15.20//NONSGML v1.0//EN
CALSCALE:GREGORIAN
METHOD:PUBLISH
X-ORIGINAL-URL:https://lonavieane.com
X-WR-CALDESC:Evenementen voor Lona Vieane
REFRESH-INTERVAL;VALUE=DURATION:PT1H
X-Robots-Tag:noindex
X-PUBLISHED-TTL:PT1H
BEGIN:VTIMEZONE
TZID:Europe/Helsinki
BEGIN:DAYLIGHT
TZOFFSETFROM:+0200
TZOFFSETTO:+0300
TZNAME:EEST
DTSTART:20220327T010000
END:DAYLIGHT
BEGIN:STANDARD
TZOFFSETFROM:+0300
TZOFFSETTO:+0200
TZNAME:EET
DTSTART:20221030T010000
END:STANDARD
BEGIN:DAYLIGHT
TZOFFSETFROM:+0200
TZOFFSETTO:+0300
TZNAME:EEST
DTSTART:20230326T010000
END:DAYLIGHT
BEGIN:STANDARD
TZOFFSETFROM:+0300
TZOFFSETTO:+0200
TZNAME:EET
DTSTART:20231029T010000
END:STANDARD
BEGIN:DAYLIGHT
TZOFFSETFROM:+0200
TZOFFSETTO:+0300
TZNAME:EEST
DTSTART:20240331T010000
END:DAYLIGHT
BEGIN:STANDARD
TZOFFSETFROM:+0300
TZOFFSETTO:+0200
TZNAME:EET
DTSTART:20241027T010000
END:STANDARD
END:VTIMEZONE
BEGIN:VEVENT
DTSTART;VALUE=DATE:20230513
DTEND;VALUE=DATE:20230514
DTSTAMP:20260421T043935
CREATED:20250531T205048Z
LAST-MODIFIED:20250531T205048Z
UID:10000108-1683936000-1684022399@lonavieane.com
SUMMARY:Dutch Kids Golf Tour 2023 @ Golfclub Almeerderhout
DESCRIPTION:
URL:https://lonavieane.com/event/dutch-kids-golf-tour-2023-golfclub-almeerderhout/
LOCATION:Golfclub Almeerderhout\, Watersnipweg 19-21\, Almere\, 1341 AA\, Netherlands
CATEGORIES:Dutch Kids Golf
END:VEVENT
END:VCALENDAR