BEGIN:VCALENDAR
VERSION:2.0
PRODID:-//Lona Vieane - ECPv6.15.20//NONSGML v1.0//EN
CALSCALE:GREGORIAN
METHOD:PUBLISH
X-ORIGINAL-URL:https://lonavieane.com
X-WR-CALDESC:Evenementen voor Lona Vieane
REFRESH-INTERVAL;VALUE=DURATION:PT1H
X-Robots-Tag:noindex
X-PUBLISHED-TTL:PT1H
BEGIN:VTIMEZONE
TZID:Europe/Helsinki
BEGIN:DAYLIGHT
TZOFFSETFROM:+0200
TZOFFSETTO:+0300
TZNAME:EEST
DTSTART:20220327T010000
END:DAYLIGHT
BEGIN:STANDARD
TZOFFSETFROM:+0300
TZOFFSETTO:+0200
TZNAME:EET
DTSTART:20221030T010000
END:STANDARD
BEGIN:DAYLIGHT
TZOFFSETFROM:+0200
TZOFFSETTO:+0300
TZNAME:EEST
DTSTART:20230326T010000
END:DAYLIGHT
BEGIN:STANDARD
TZOFFSETFROM:+0300
TZOFFSETTO:+0200
TZNAME:EET
DTSTART:20231029T010000
END:STANDARD
BEGIN:DAYLIGHT
TZOFFSETFROM:+0200
TZOFFSETTO:+0300
TZNAME:EEST
DTSTART:20240331T010000
END:DAYLIGHT
BEGIN:STANDARD
TZOFFSETFROM:+0300
TZOFFSETTO:+0200
TZNAME:EET
DTSTART:20241027T010000
END:STANDARD
END:VTIMEZONE
BEGIN:VEVENT
DTSTART;VALUE=DATE:20230701
DTEND;VALUE=DATE:20230702
DTSTAMP:20260421T055033
CREATED:20250531T203601Z
LAST-MODIFIED:20250531T203601Z
UID:10000101-1688169600-1688255999@lonavieane.com
SUMMARY:NGF Girls Golf Day @ Olympus
DESCRIPTION:
URL:https://lonavieane.com/event/ngf-girls-golf-day-olympus/
LOCATION:Golfcentrum De Hoge Dijk\, Abcouderstraatweg 46\, Amsterdam\, Noord Holland\, 1105 AA\, Netherlands
CATEGORIES:NGF Girls Golf Day
END:VEVENT
END:VCALENDAR