BEGIN:VCALENDAR
VERSION:2.0
PRODID:-//Lona Vieane - ECPv6.15.20//NONSGML v1.0//EN
CALSCALE:GREGORIAN
METHOD:PUBLISH
X-WR-CALNAME:Lona Vieane
X-ORIGINAL-URL:https://lonavieane.com
X-WR-CALDESC:Evenementen voor Lona Vieane
REFRESH-INTERVAL;VALUE=DURATION:PT1H
X-Robots-Tag:noindex
X-PUBLISHED-TTL:PT1H
BEGIN:VTIMEZONE
TZID:Europe/Helsinki
BEGIN:DAYLIGHT
TZOFFSETFROM:+0200
TZOFFSETTO:+0300
TZNAME:EEST
DTSTART:20230326T010000
END:DAYLIGHT
BEGIN:STANDARD
TZOFFSETFROM:+0300
TZOFFSETTO:+0200
TZNAME:EET
DTSTART:20231029T010000
END:STANDARD
BEGIN:DAYLIGHT
TZOFFSETFROM:+0200
TZOFFSETTO:+0300
TZNAME:EEST
DTSTART:20240331T010000
END:DAYLIGHT
BEGIN:STANDARD
TZOFFSETFROM:+0300
TZOFFSETTO:+0200
TZNAME:EET
DTSTART:20241027T010000
END:STANDARD
BEGIN:DAYLIGHT
TZOFFSETFROM:+0200
TZOFFSETTO:+0300
TZNAME:EEST
DTSTART:20250330T010000
END:DAYLIGHT
BEGIN:STANDARD
TZOFFSETFROM:+0300
TZOFFSETTO:+0200
TZNAME:EET
DTSTART:20251026T010000
END:STANDARD
END:VTIMEZONE
BEGIN:VEVENT
DTSTART;VALUE=DATE:20240824
DTEND;VALUE=DATE:20240825
DTSTAMP:20260421T024659
CREATED:20250526T184028Z
LAST-MODIFIED:20250526T184028Z
UID:10000057-1724457600-1724543999@lonavieane.com
SUMMARY:NGF Girls Golf Day @ Rijk van  Sybrook
DESCRIPTION:Golfbaan Het Rijk van Sybrook\, Veendijk 100\, Enschede \n  \n24-08-2024\, 09:30 – 15:30uur \n 
URL:https://lonavieane.com/event/ngf-girls-golf-day-rijk-van-sybrook/
LOCATION:Golfbaan Het Rijk van Sybrook\, Veendijk 100\, Enschede\, Netherlands
CATEGORIES:NGF Girls Golf Day
END:VEVENT
BEGIN:VEVENT
DTSTART;VALUE=DATE:20240609
DTEND;VALUE=DATE:20240610
DTSTAMP:20260421T024659
CREATED:20250530T193403Z
LAST-MODIFIED:20250530T193403Z
UID:10000067-1717891200-1717977599@lonavieane.com
SUMMARY:(Gereserveerd) - NGF - Jeugd competitie @ 't Sybrook
DESCRIPTION:NGF Jeugd competitie locatie nog niet bekend.
URL:https://lonavieane.com/event/gereserveerd-ngf-jeugd-competitie-t-sybrook/
LOCATION:Golfbaan Het Rijk van Sybrook\, Veendijk 100\, Enschede\, Netherlands
CATEGORIES:NGF
END:VEVENT
END:VCALENDAR