BEGIN:VCALENDAR
VERSION:2.0
PRODID:-//Lona Vieane - ECPv6.15.20//NONSGML v1.0//EN
CALSCALE:GREGORIAN
METHOD:PUBLISH
X-ORIGINAL-URL:https://lonavieane.com
X-WR-CALDESC:Evenementen voor Lona Vieane
REFRESH-INTERVAL;VALUE=DURATION:PT1H
X-Robots-Tag:noindex
X-PUBLISHED-TTL:PT1H
BEGIN:VTIMEZONE
TZID:Europe/Helsinki
BEGIN:DAYLIGHT
TZOFFSETFROM:+0200
TZOFFSETTO:+0300
TZNAME:EEST
DTSTART:20220327T010000
END:DAYLIGHT
BEGIN:STANDARD
TZOFFSETFROM:+0300
TZOFFSETTO:+0200
TZNAME:EET
DTSTART:20221030T010000
END:STANDARD
BEGIN:DAYLIGHT
TZOFFSETFROM:+0200
TZOFFSETTO:+0300
TZNAME:EEST
DTSTART:20230326T010000
END:DAYLIGHT
BEGIN:STANDARD
TZOFFSETFROM:+0300
TZOFFSETTO:+0200
TZNAME:EET
DTSTART:20231029T010000
END:STANDARD
BEGIN:DAYLIGHT
TZOFFSETFROM:+0200
TZOFFSETTO:+0300
TZNAME:EEST
DTSTART:20240331T010000
END:DAYLIGHT
BEGIN:STANDARD
TZOFFSETFROM:+0300
TZOFFSETTO:+0200
TZNAME:EET
DTSTART:20241027T010000
END:STANDARD
BEGIN:DAYLIGHT
TZOFFSETFROM:+0200
TZOFFSETTO:+0300
TZNAME:EEST
DTSTART:20250330T010000
END:DAYLIGHT
BEGIN:STANDARD
TZOFFSETFROM:+0300
TZOFFSETTO:+0200
TZNAME:EET
DTSTART:20251026T010000
END:STANDARD
END:VTIMEZONE
BEGIN:VEVENT
DTSTART;VALUE=DATE:20241027
DTEND;VALUE=DATE:20241028
DTSTAMP:20260421T011049
CREATED:20250525T192526Z
LAST-MODIFIED:20250525T192526Z
UID:10000045-1729987200-1730073599@lonavieane.com
SUMMARY:Dutch Kids Golf Tour @ Eindhovensche Golf finale
DESCRIPTION:
URL:https://lonavieane.com/event/dutch-kids-golf-tour-eindhovensche-golf-finale/
LOCATION:Eindhovensche golf club\, Eindhovenseweg 300\, Valkenswaard\, 5553 VB\, Netherlands
CATEGORIES:Dutch Kids Golf
END:VEVENT
BEGIN:VEVENT
DTSTART;VALUE=DATE:20240921
DTEND;VALUE=DATE:20240923
DTSTAMP:20260421T011049
CREATED:20250526T181645Z
LAST-MODIFIED:20250526T181645Z
UID:10000051-1726876800-1727049599@lonavieane.com
SUMMARY:NGF - NK Strokeplay Meisjes en Jongens t/m 15 jaar @ Eindovensche
DESCRIPTION:Max hcp: 25\,0 meisjes
URL:https://lonavieane.com/event/ngf-nk-strokeplay-meisjes-en-jongens-t-m-15-jaar-eindovensche/
LOCATION:Eindhovensche golf club\, Eindhovenseweg 300\, Valkenswaard\, 5553 VB\, Netherlands
CATEGORIES:NGF
END:VEVENT
BEGIN:VEVENT
DTSTART;VALUE=DATE:20240918
DTEND;VALUE=DATE:20240919
DTSTAMP:20260421T011049
CREATED:20250526T181758Z
LAST-MODIFIED:20250526T181758Z
UID:10000052-1726617600-1726703999@lonavieane.com
SUMMARY:NGF - NK Voorspelen @ Eindovensche
DESCRIPTION:NGF – NK Voorspelen @ Eindovensche onder begeleiding van een NGF coach een oefenronde spelen op de Eindhovensche.
URL:https://lonavieane.com/event/ngf-nk-voorspelen-eindovensche/
LOCATION:Eindhovensche golf club\, Eindhovenseweg 300\, Valkenswaard\, 5553 VB\, Netherlands
CATEGORIES:NGF
END:VEVENT
BEGIN:VEVENT
DTSTART;VALUE=DATE:20240914
DTEND;VALUE=DATE:20240915
DTSTAMP:20260421T011049
CREATED:20250526T181929Z
LAST-MODIFIED:20250526T181929Z
UID:10000053-1726272000-1726358399@lonavieane.com
SUMMARY:NGF Girls Golf Day @ Eindhovensche
DESCRIPTION:Eindhovensche Golf\, Eindhovenseweg 300\, Valkenswaard \n14-09-2024\, 09:30 – 15:30uu
URL:https://lonavieane.com/event/ngf-girls-golf-day-eindhovensche/
LOCATION:Eindhovensche golf club\, Eindhovenseweg 300\, Valkenswaard\, 5553 VB\, Netherlands
CATEGORIES:NGF Girls Golf Day
END:VEVENT
BEGIN:VEVENT
DTSTART;VALUE=DATE:20231029
DTEND;VALUE=DATE:20231030
DTSTAMP:20260421T011049
CREATED:20250531T201229Z
LAST-MODIFIED:20250531T201229Z
UID:10000089-1698537600-1698623999@lonavieane.com
SUMMARY:Dutch Kids Golf Tour 2023 - invitational final @ Eindhovensche
DESCRIPTION:
URL:https://lonavieane.com/event/dutch-kids-golf-tour-2023-invitational-final-eindhovensche/
LOCATION:Eindhovensche golf club\, Eindhovenseweg 300\, Valkenswaard\, 5553 VB\, Netherlands
CATEGORIES:Dutch Kids Golf
END:VEVENT
BEGIN:VEVENT
DTSTART;VALUE=DATE:20231028
DTEND;VALUE=DATE:20231029
DTSTAMP:20260421T011049
CREATED:20250531T201435Z
LAST-MODIFIED:20250531T201435Z
UID:10000090-1698451200-1698537599@lonavieane.com
SUMMARY:Dutch Kids Golf Family Texas Scramble Halloween Foursome @ Eindhovensche
DESCRIPTION:
URL:https://lonavieane.com/event/dutch-kids-golf-family-texas-scramble-halloween-foursome-eindhovensche/
LOCATION:Eindhovensche golf club\, Eindhovenseweg 300\, Valkenswaard\, 5553 VB\, Netherlands
END:VEVENT
BEGIN:VEVENT
DTSTART;VALUE=DATE:20230923
DTEND;VALUE=DATE:20230925
DTSTAMP:20260421T011049
CREATED:20250531T202015Z
LAST-MODIFIED:20250531T202015Z
UID:10000093-1695427200-1695599999@lonavieane.com
SUMMARY:NGF - Nationaal Strokeplay Kampioenschap - Meisjes & Jongens t/m 15 jaar @ Eindhovensche
DESCRIPTION:
URL:https://lonavieane.com/event/ngf-nationaal-strokeplay-kampioenschap-meisjes-jongens-t-m-15-jaar-eindhovensche/
LOCATION:Eindhovensche golf club\, Eindhovenseweg 300\, Valkenswaard\, 5553 VB\, Netherlands
CATEGORIES:NGF
END:VEVENT
BEGIN:VEVENT
DTSTART;VALUE=DATE:20230805
DTEND;VALUE=DATE:20230806
DTSTAMP:20260421T011049
CREATED:20250531T202838Z
LAST-MODIFIED:20250531T202838Z
UID:10000097-1691193600-1691279999@lonavieane.com
SUMMARY:NGF Girls Golf Day @ Eindhovensche
DESCRIPTION:
URL:https://lonavieane.com/event/ngf-girls-golf-day-eindhovensche-2/
LOCATION:Eindhovensche golf club\, Eindhovenseweg 300\, Valkenswaard\, 5553 VB\, Netherlands
CATEGORIES:NGF Girls Golf Day
END:VEVENT
END:VCALENDAR