BEGIN:VCALENDAR
VERSION:2.0
PRODID:-//Lona Vieane - ECPv6.15.20//NONSGML v1.0//EN
CALSCALE:GREGORIAN
METHOD:PUBLISH
X-ORIGINAL-URL:https://lonavieane.com
X-WR-CALDESC:Evenementen voor Lona Vieane
REFRESH-INTERVAL;VALUE=DURATION:PT1H
X-Robots-Tag:noindex
X-PUBLISHED-TTL:PT1H
BEGIN:VTIMEZONE
TZID:Europe/Helsinki
BEGIN:DAYLIGHT
TZOFFSETFROM:+0200
TZOFFSETTO:+0300
TZNAME:EEST
DTSTART:20220327T010000
END:DAYLIGHT
BEGIN:STANDARD
TZOFFSETFROM:+0300
TZOFFSETTO:+0200
TZNAME:EET
DTSTART:20221030T010000
END:STANDARD
BEGIN:DAYLIGHT
TZOFFSETFROM:+0200
TZOFFSETTO:+0300
TZNAME:EEST
DTSTART:20230326T010000
END:DAYLIGHT
BEGIN:STANDARD
TZOFFSETFROM:+0300
TZOFFSETTO:+0200
TZNAME:EET
DTSTART:20231029T010000
END:STANDARD
BEGIN:DAYLIGHT
TZOFFSETFROM:+0200
TZOFFSETTO:+0300
TZNAME:EEST
DTSTART:20240331T010000
END:DAYLIGHT
BEGIN:STANDARD
TZOFFSETFROM:+0300
TZOFFSETTO:+0200
TZNAME:EET
DTSTART:20241027T010000
END:STANDARD
BEGIN:DAYLIGHT
TZOFFSETFROM:+0200
TZOFFSETTO:+0300
TZNAME:EEST
DTSTART:20250330T010000
END:DAYLIGHT
BEGIN:STANDARD
TZOFFSETFROM:+0300
TZOFFSETTO:+0200
TZNAME:EET
DTSTART:20251026T010000
END:STANDARD
END:VTIMEZONE
BEGIN:VEVENT
DTSTART;VALUE=DATE:20240713
DTEND;VALUE=DATE:20240714
DTSTAMP:20260421T073112
CREATED:20250526T191314Z
LAST-MODIFIED:20250526T191314Z
UID:10000060-1720828800-1720915199@lonavieane.com
SUMMARY:NGF Girls Golf Day @ De Gelpenberg
DESCRIPTION:Drentse Golfclub De Gelpenberg\, Gebbeveenweg 1\, Aalden \n  \n13-07-2024\, 09:30 – 15:30uur
URL:https://lonavieane.com/event/ngf-girls-golf-day-de-gelpenberg/
LOCATION:Drentse Golfclub “De Gelpenberg”\, Gebbeveenweg 1\, Aalden\, 7854 TD\, Netherlands
CATEGORIES:NGF Girls Golf Day
END:VEVENT
BEGIN:VEVENT
DTSTART;VALUE=DATE:20230617
DTEND;VALUE=DATE:20230618
DTSTAMP:20260421T073112
CREATED:20250531T204213Z
LAST-MODIFIED:20250531T204213Z
UID:10000104-1686960000-1687046399@lonavieane.com
SUMMARY:NGF Girls Golf Day @ De Gelpenberg
DESCRIPTION:
URL:https://lonavieane.com/event/ngf-girls-golf-day-de-gelpenberg-2/
LOCATION:Drentse Golfclub “De Gelpenberg”\, Gebbeveenweg 1\, Aalden\, 7854 TD\, Netherlands
CATEGORIES:NGF Girls Golf Day
END:VEVENT
END:VCALENDAR